BEGIN:VCALENDAR
VERSION:2.0
PRODID:-//Muziekvereniging Excelsior - ECPv4.6.8//NONSGML v1.0//EN
CALSCALE:GREGORIAN
METHOD:PUBLISH
X-WR-CALNAME:Muziekvereniging Excelsior
X-ORIGINAL-URL:https://www.excelsior-hoofddorp.nl
X-WR-CALDESC:Events for Muziekvereniging Excelsior
BEGIN:VEVENT
DTSTART;TZID=UTC+1:20251219T193000
DTEND;TZID=UTC+1:20251219T201500
DTSTAMP:20260424T175122
CREATED:20251202T185027Z
LAST-MODIFIED:20251202T185027Z
UID:6065-1766172600-1766175300@www.excelsior-hoofddorp.nl
SUMMARY:Airmen Candlelight Memorial 2025
DESCRIPTION:
URL:https://www.excelsior-hoofddorp.nl/evenement/airmen-candlelight-memorial-2025/
END:VEVENT
END:VCALENDAR