BEGIN:VCALENDAR
VERSION:2.0
PRODID:-//Muziekvereniging Excelsior - ECPv4.6.8//NONSGML v1.0//EN
CALSCALE:GREGORIAN
METHOD:PUBLISH
X-WR-CALNAME:Muziekvereniging Excelsior
X-ORIGINAL-URL:https://www.excelsior-hoofddorp.nl
X-WR-CALDESC:Events for Muziekvereniging Excelsior
BEGIN:VEVENT
DTSTART;TZID=UTC+1:20251224T150000
DTEND;TZID=UTC+1:20251224T160000
DTSTAMP:20260424T182505
CREATED:20251202T185119Z
LAST-MODIFIED:20251202T185119Z
UID:6068-1766588400-1766592000@www.excelsior-hoofddorp.nl
SUMMARY:Bornholm Kerstviering
DESCRIPTION:
URL:https://www.excelsior-hoofddorp.nl/evenement/bornholm-kerstviering/
END:VEVENT
END:VCALENDAR