BEGIN:VCALENDAR
VERSION:2.0
PRODID:-//Muziekvereniging Excelsior - ECPv4.6.8//NONSGML v1.0//EN
CALSCALE:GREGORIAN
METHOD:PUBLISH
X-WR-CALNAME:Muziekvereniging Excelsior
X-ORIGINAL-URL:https://www.excelsior-hoofddorp.nl
X-WR-CALDESC:Events for Muziekvereniging Excelsior
BEGIN:VEVENT
DTSTART;VALUE=DATE:20240602
DTEND;VALUE=DATE:20240603
DTSTAMP:20260425T224111
CREATED:20240306T230110Z
LAST-MODIFIED:20240306T230110Z
UID:5778-1717286400-1717372799@www.excelsior-hoofddorp.nl
SUMMARY:MHM Markt en Muziek
DESCRIPTION:
URL:https://www.excelsior-hoofddorp.nl/evenement/mhm-markt-en-muziek/
LOCATION:Burgemeester van Stamplein\, Hoofddorp\, 2132 BH\, Nederland
END:VEVENT
END:VCALENDAR