BEGIN:VCALENDAR
VERSION:2.0
PRODID:-//Muziekvereniging Excelsior - ECPv4.6.8//NONSGML v1.0//EN
CALSCALE:GREGORIAN
METHOD:PUBLISH
X-WR-CALNAME:Muziekvereniging Excelsior
X-ORIGINAL-URL:https://www.excelsior-hoofddorp.nl
X-WR-CALDESC:Events for Muziekvereniging Excelsior
BEGIN:VEVENT
DTSTART;TZID=UTC+1:20240323T200000
DTEND;TZID=UTC+1:20240323T223000
DTSTAMP:20260425T175208
CREATED:20230905T191610Z
LAST-MODIFIED:20240306T230340Z
UID:5678-1711224000-1711233000@www.excelsior-hoofddorp.nl
SUMMARY:Voorjaarsconcert
DESCRIPTION:kaarten kunt u hier vinden: https://excelsior-hoofddorp.nl/kaartverkoop/ \n
URL:https://www.excelsior-hoofddorp.nl/evenement/voorjaarsconcert-4/
LOCATION:Eugenie Previnaireweg 14\, Nieuw-Vennep\, 2151 BE\, Nederland
END:VEVENT
END:VCALENDAR