BEGIN:VCALENDAR
VERSION:2.0
PRODID:-//Muziekvereniging Excelsior - ECPv4.6.8//NONSGML v1.0//EN
CALSCALE:GREGORIAN
METHOD:PUBLISH
X-WR-CALNAME:Muziekvereniging Excelsior
X-ORIGINAL-URL:https://www.excelsior-hoofddorp.nl
X-WR-CALDESC:Events for Muziekvereniging Excelsior
BEGIN:VEVENT
DTSTART;TZID=UTC+1:20251109T183000
DTEND;TZID=UTC+1:20251109T213000
DTSTAMP:20260424T174632
CREATED:20251018T160123Z
LAST-MODIFIED:20251018T160123Z
UID:6049-1762713000-1762723800@www.excelsior-hoofddorp.nl
SUMMARY:Vriendenconcert
DESCRIPTION:
URL:https://www.excelsior-hoofddorp.nl/evenement/vriendenconcert/
LOCATION:Bennebroekerweg 800\, Hoofddorp\, 2134AB\, Nederland
END:VEVENT
END:VCALENDAR