BEGIN:VCALENDAR
VERSION:2.0
PRODID:-//Muziekvereniging Excelsior - ECPv4.6.8//NONSGML v1.0//EN
CALSCALE:GREGORIAN
METHOD:PUBLISH
X-WR-CALNAME:Muziekvereniging Excelsior
X-ORIGINAL-URL:https://www.excelsior-hoofddorp.nl
X-WR-CALDESC:Events for Muziekvereniging Excelsior
BEGIN:VEVENT
DTSTART;TZID=UTC+1:20260131T200000
DTEND;TZID=UTC+1:20260131T223000
DTSTAMP:20260424T181049
CREATED:20251202T184518Z
LAST-MODIFIED:20251202T190056Z
UID:6062-1769889600-1769898600@www.excelsior-hoofddorp.nl
SUMMARY:Winterconcert 2026
DESCRIPTION:Harmonie Excelsior breekt de winter doormidden \nNu de winter zich voortsleept en alle feestdagen voorbij zijn lijkt de lente nog ver\nweg. Toch is deze periode voor harmonie Excelsior uit de Haarlemmermeer\nbelangrijk. Het is namelijk de start van de aanloop naar het 100-jarig jubileum in\n2028.\nDit maakt harmonie Excelsior een van de oudste muziekverenigingen uit de\nHaarlemmermeer. Deze gebeurtenis mag natuurlijk niet ongemerkt voorbijgaan! \nDe kaartverkoop is gestart. Voor meer informatie: https://www.excelsior-hoofddorp.nl/kaartverkoop \n
URL:https://www.excelsior-hoofddorp.nl/evenement/winterconcert-2026/
LOCATION:Marktplein 96\, Hoofddorp\, 2132 DC\, Nederland
END:VEVENT
END:VCALENDAR